BEGIN:VCALENDAR
VERSION:2.0
PRODID:-//St. Paul&#039;s - ECPv6.15.20//NONSGML v1.0//EN
CALSCALE:GREGORIAN
METHOD:PUBLISH
X-WR-CALNAME:St. Paul&#039;s
X-ORIGINAL-URL:https://stpaulsmurfreesboro.org
X-WR-CALDESC:Events for St. Paul&#039;s
REFRESH-INTERVAL;VALUE=DURATION:PT1H
X-Robots-Tag:noindex
X-PUBLISHED-TTL:PT1H
BEGIN:VTIMEZONE
TZID:America/Chicago
BEGIN:DAYLIGHT
TZOFFSETFROM:-0600
TZOFFSETTO:-0500
TZNAME:CDT
DTSTART:20240310T080000
END:DAYLIGHT
BEGIN:STANDARD
TZOFFSETFROM:-0500
TZOFFSETTO:-0600
TZNAME:CST
DTSTART:20241103T070000
END:STANDARD
BEGIN:DAYLIGHT
TZOFFSETFROM:-0600
TZOFFSETTO:-0500
TZNAME:CDT
DTSTART:20250309T080000
END:DAYLIGHT
BEGIN:STANDARD
TZOFFSETFROM:-0500
TZOFFSETTO:-0600
TZNAME:CST
DTSTART:20251102T070000
END:STANDARD
BEGIN:DAYLIGHT
TZOFFSETFROM:-0600
TZOFFSETTO:-0500
TZNAME:CDT
DTSTART:20260308T080000
END:DAYLIGHT
BEGIN:STANDARD
TZOFFSETFROM:-0500
TZOFFSETTO:-0600
TZNAME:CST
DTSTART:20261101T070000
END:STANDARD
END:VTIMEZONE
BEGIN:VEVENT
DTSTART;VALUE=DATE:20250413
DTEND;VALUE=DATE:20250421
DTSTAMP:20260423T051330
CREATED:20250127T173900Z
LAST-MODIFIED:20250127T173900Z
UID:4275-1744502400-1745193599@stpaulsmurfreesboro.org
SUMMARY:Holy Week
DESCRIPTION:
URL:https://stpaulsmurfreesboro.org/event/holy-week/
END:VEVENT
BEGIN:VEVENT
DTSTART;TZID=America/Chicago:20250420T073000
DTEND;TZID=America/Chicago:20250420T203000
DTSTAMP:20260423T051330
CREATED:20211021T223418Z
LAST-MODIFIED:20251003T211416Z
UID:4359-1745134200-1745181000@stpaulsmurfreesboro.org
SUMMARY:Sunday Rite I Eucharist
DESCRIPTION:A quiet service of the proclamation of the Word of God and celebration of Holy Communion\, with a sermon and hymns accompanied by a piano.
URL:https://stpaulsmurfreesboro.org/event/730-a-m-rite-i-eucharist-2025-04-20-2025-04-20-2025-04-20/
CATEGORIES:Worship
END:VEVENT
BEGIN:VEVENT
DTSTART;TZID=America/Chicago:20250420T084500
DTEND;TZID=America/Chicago:20250420T095000
DTSTAMP:20260423T051330
CREATED:20250127T172547Z
LAST-MODIFIED:20250127T172547Z
UID:4236-1745138700-1745142600@stpaulsmurfreesboro.org
SUMMARY:Easter Sunday Rite II Eucharist
DESCRIPTION:
URL:https://stpaulsmurfreesboro.org/event/easter-sunday-rite-ii-eucharist/
LOCATION:Nave\, 315 E Main St.\, Murfreesboro\, 37130\, United States
CATEGORIES:Worship
END:VEVENT
BEGIN:VEVENT
DTSTART;TZID=America/Chicago:20250420T100000
DTEND;TZID=America/Chicago:20250420T104500
DTSTAMP:20260423T051330
CREATED:20250212T223601Z
LAST-MODIFIED:20250212T223601Z
UID:4396-1745143200-1745145900@stpaulsmurfreesboro.org
SUMMARY:Easter Egg Hunt
DESCRIPTION:Children bring a basket for the Easter Egg Hunt at 10:00 a.m. on the front lawn.
URL:https://stpaulsmurfreesboro.org/event/easter-egg-hunt/
END:VEVENT
BEGIN:VEVENT
DTSTART;TZID=America/Chicago:20250420T110000
DTEND;TZID=America/Chicago:20250420T123000
DTSTAMP:20260423T051330
CREATED:20240702T203622Z
LAST-MODIFIED:20250127T172640Z
UID:3941-1745146800-1745152200@stpaulsmurfreesboro.org
SUMMARY:Easter Sunday Rite II Eucharist with Choir\, Children's Church\, and Nursery
DESCRIPTION:
URL:https://stpaulsmurfreesboro.org/event/rite-ii-eucharist-with-choir-childrens-church-and-nursery-2025-04-20/
CATEGORIES:Worship
END:VEVENT
END:VCALENDAR